Workbook

Sheet PROMOS PRODUITS
B1: LES OFFRES SPÉCIALES
A2: #VALUE! | B2: LES OFFRES SPÉCIALES DE FIN D'ANNÉE
B3: Valable du 15 septembre au 31 décembre 2026
A5: COMPTE CLIENT N°
A6: TYPE DE COMMANDE
A7: MOTIF TRANSACTION
A8: COMMANDE CLIENT N°
A9: DATE DE COMMANDE CLIENT
A10: DATE DE LIVRAISON DEMANDEE
A12: REMISE CLIENT:
A14: Codes-barres visibles en téléchargeant la police | G14: https://www.dafont.com/fr/c39hrp48dhtt.font
A16: N° de page dans la plaquette | B16: Gamme | C16: Marque | D16: EAN | E16: Codes barres | F16: Code produit | G16: Désignation | H16: UV | I16: tarif HT 2026 | J16: PRIX PERMANENT 2026 | K16: Qté promo | L16: Type de remise | M16: % de remise | N16: Prix Promo | O16: Qté | P16: Total | Q16: PRIX APPLIQUE DANS LA COMMANDE
L17: Complémentaire | Q17: =IF(#REF!>=20,N17,J17) -> #REF!
A18: 2 | B18: Techniques Mixtes | C18: Conté à Paris | D18: 3013643022398 | E18: 3013643022398 | F18: 302239 | G18: CAP & LB ADVENT CALENDAR | H18: 1 | I18: 38 | J18: =I18*(1-$D$12) -> 38 | K18: 3 | L18: Substitutive | M18: 0.28 | N18: =IF(L18="SUBSTITUTIVE",I18*(1-M18),J18*(1-M18)) -> 27.36 | P18: =IF(O18>=K18,(O18*N18),(O18*J18)) -> 0 | Q18: =IF(O18>=K18,N18,J18) -> 38 | R18: Nouveauté !
A19: 3 | B19: Aquarelle Fine | C19: Lefranc Bourgeois | D19: 3013643022480 | E19: 3013643022480 | F19: 302248 | G19: LB KIT AQUARELLE DOLCE VITA | H19: 1 | I19: 27 | J19: =I19*(1-$D$12) -> 27 | K19: 3 | L19: Substitutive | M19: 0.28 | N19: =IF(L19="SUBSTITUTIVE",I19*(1-M19),J19*(1-M19)) -> 19.44 | P19: =IF(O19>=K19,(O19*N19),(O19*J19)) -> 0 | Q19: =IF(O19>=K19,N19,J19) -> 27 | R19: Nouveauté !
A20: 3 | B20: Aquarelle Fine | C20: Lefranc Bourgeois | D20: 3013643022473 | E20: 3013643022473 | F20: 302247 | G20: LB START ACRYLIC COLOUR KIT PARIS | H20: 1 | I20: 27 | J20: =I20*(1-$D$12) -> 27 | K20: 3 | L20: Substitutive | M20: 0.28 | N20: =IF(L20="SUBSTITUTIVE",I20*(1-M20),J20*(1-M20)) -> 19.44 | P20: =IF(O20>=K20,(O20*N20),(O20*J20)) -> 0 | Q20: =IF(O20>=K20,N20,J20) -> 27 | R20: Nouveauté !
A21: 3 | B21: Aquarelle Fine | C21: Lefranc Bourgeois | D21: 3013643022497 | E21: 3013643022497 | F21: 302249 | G21: LB LINEL GOUACHE EXTRA-FINE KIT FLOWER POWER | H21: 1 | I21: 27 | J21: =I21*(1-$D$12) -> 27 | K21: 3 | L21: Substitutive | M21: 0.28 | N21: =IF(L21="SUBSTITUTIVE",I21*(1-M21),J21*(1-M21)) -> 19.44 | P21: =IF(O21>=K21,(O21*N21),(O21*J21)) -> 0 | Q21: =IF(O21>=K21,N21,J21) -> 27 | R21: Nouveauté !
A22: 4 | B22: Techniques Mixtes | C22: Winsor & Newton | D22: 884955099230 | E22: 884955099230 | F22: 0290199 | G22: COFFRET MIXED MEDIA SET - FASHION | H22: 1 | I22: 30.6 | J22: =I22*(1-$D$12) -> 30.6 | K22: 3 | L22: Substitutive | M22: 0.35 | N22: =IF(L22="SUBSTITUTIVE",I22*(1-M22),J22*(1-M22)) -> 19.89 | P22: =IF(O22>=K22,(O22*N22),(O22*J22)) -> 0 | Q22: =IF(O22>=K22,N22,J22) -> 30.6
A23: 4 | B23: Techniques Mixtes | C23: Winsor & Newton | D23: 884955099247 | E23: 884955099247 | F23: 0290200 | G23: COFFRET MIXED MEDIA SET - URBAN | H23: 1 | I23: 30.6 | J23: =I23*(1-$D$12) -> 30.6 | K23: 3 | L23: Substitutive | M23: 0.35 | N23: =IF(L23="SUBSTITUTIVE",I23*(1-M23),J23*(1-M23)) -> 19.89 | P23: =IF(O23>=K23,(O23*N23),(O23*J23)) -> 0 | Q23: =IF(O23>=K23,N23,J23) -> 30.6
A24: 5 | B24: Techniques Mixtes | C24: Winsor & Newton | D24: 884955102138 | E24: 884955102138 | F24: 0290203 | G24: COFFRET MIXED MEDIA - MANGA SET 2 | H24: 1 | I24: 27.54 | J24: =I24*(1-$D$12) -> 27.54 | K24: 3 | L24: Substitutive | M24: 0.35 | N24: =IF(L24="SUBSTITUTIVE",I24*(1-M24),J24*(1-M24)) -> 17.901 | P24: =IF(O24>=K24,(O24*N24),(O24*J24)) -> 0 | Q24: =IF(O24>=K24,N24,J24) -> 27.54 | R24: Nouveauté !
A25: 5 | B25: Techniques Mixtes | C25: Winsor & Newton | D25: 884955097823 | E25: 884955097823 | F25: 0290197 | G25: COFFRET MIXED MEDIA - MANGA | H25: 1 | I25: 27.54 | J25: =I25*(1-$D$12) -> 27.54 | K25: 3 | L25: Substitutive | M25: 0.35 | N25: =IF(L25="SUBSTITUTIVE",I25*(1-M25),J25*(1-M25)) -> 17.901 | P25: =IF(O25>=K25,(O25*N25),(O25*J25)) -> 0 | Q25: =IF(O25>=K25,N25,J25) -> 27.54
A26: 6 | B26: Techniques Mixtes | C26: Winsor & Newton | D26: 884955097090 | E26: 884955097090 | F26: 0290180 | G26: COFFRET MIXED MEDIA - ILLUSTRATION | H26: 1 | I26: 30.6 | J26: =I26*(1-$D$12) -> 30.6 | K26: 3 | L26: Substitutive | M26: 0.35 | N26: =IF(L26="SUBSTITUTIVE",I26*(1-M26),J26*(1-M26)) -> 19.89 | P26: =IF(O26>=K26,(O26*N26),(O26*J26)) -> 0 | Q26: =IF(O26>=K26,N26,J26) -> 30.6
A27: 6 | B27: Techniques Mixtes | C27: Winsor & Newton | D27: 884955097106 | E27: 884955097106 | F27: 0290181 | G27: COFFRET MIXED MEDIA - AQUARELLE | H27: 1 | I27: 30.6 | J27: =I27*(1-$D$12) -> 30.6 | K27: 3 | L27: Substitutive | M27: 0.35 | N27: =IF(L27="SUBSTITUTIVE",I27*(1-M27),J27*(1-M27)) -> 19.89 | P27: =IF(O27>=K27,(O27*N27),(O27*J27)) -> 0 | Q27: =IF(O27>=K27,N27,J27) -> 30.6
A28: 6 | B28: Techniques Mixtes | C28: Winsor & Newton | D28: 884955097113 | E28: 884955097113 | F28: 0290182 | G28: COFFRET MIXED MEDIA - PEINTURES EFFET MÉTAL | H28: 1 | I28: 30.6 | J28: =I28*(1-$D$12) -> 30.6 | K28: 3 | L28: Substitutive | M28: 0.35 | N28: =IF(L28="SUBSTITUTIVE",I28*(1-M28),J28*(1-M28)) -> 19.89 | P28: =IF(O28>=K28,(O28*N28),(O28*J28)) -> 0 | Q28: =IF(O28>=K28,N28,J28) -> 30.6
A29: 7 | B29: Artist's | C29: Winsor & Newton | D29: 884955097847 | E29: 884955097847 | F29: 1290144 | G29: COFFRET ARTISTS' - COFFRET ATELIER | H29: 1 | I29: 92.15 | J29: =I29*(1-$D$12) -> 92.15 | K29: 1 | L29: Substitutive | M29: 0.25 | N29: =IF(L29="SUBSTITUTIVE",I29*(1-M29),J29*(1-M29)) -> 69.1125 | P29: =IF(O29>=K29,(O29*N29),(O29*J29)) -> 0 | Q29: =IF(O29>=K29,N29,J29) -> 92.15
A30: 7 | B30: Winton | C30: Winsor & Newton | D30: 884955097779 | E30: 884955097779 | F30: 1490712 | G30: COFFRET WINTON - LES ESSENTIELLES 8X37ML | H30: 1 | I30: 54.62 | J30: =I30*(1-$D$12) -> 54.62 | K30: 3 | L30: Substitutive | M30: 0.3 | N30: =IF(L30="SUBSTITUTIVE",I30*(1-M30),J30*(1-M30)) -> 38.234 | P30: =IF(O30>=K30,(O30*N30),(O30*J30)) -> 0 | Q30: =IF(O30>=K30,N30,J30) -> 54.62
A31: 7 | B31: Winton | C31: Winsor & Newton | D31: 884955097793 | E31: 884955097793 | F31: 1490713 | G31: COFFRET WINTON - COFFRET LES ESSENTIELLES 10X12ML | H31: 1 | I31: 29.49 | J31: =I31*(1-$D$12) -> 29.49 | K31: 3 | L31: Substitutive | M31: 0.3 | N31: =IF(L31="SUBSTITUTIVE",I31*(1-M31),J31*(1-M31)) -> 20.643 | P31: =IF(O31>=K31,(O31*N31),(O31*J31)) -> 0 | Q31: =IF(O31>=K31,N31,J31) -> 29.49
A32: 8 | B32: Huile Extra-Fine | C32: Lefranc Bourgeois | D32: 3013644051663 | E32: 3013644051663 | F32: 405166 | G32: COFFRET CLASSIQUE | H32: 1 | I32: 112.88 | J32: =I32*(1-$D$12) -> 112.88 | K32: 1 | L32: Substitutive | M32: 0.25 | N32: =IF(L32="SUBSTITUTIVE",I32*(1-M32),J32*(1-M32)) -> 84.66 | P32: =IF(O32>=K32,(O32*N32),(O32*J32)) -> 0 | Q32: =IF(O32>=K32,N32,J32) -> 112.88
A33: 8 | B33: Huile Extra-Fine | C33: Lefranc Bourgeois | D33: 3013644051670 | E33: 3013644051670 | F33: 405167 | G33: COFFRET PRESTIGE | H33: 1 | I33: 438.98 | J33: =I33*(1-$D$12) -> 438.98 | K33: 1 | L33: Substitutive | M33: 0.25 | N33: =IF(L33="SUBSTITUTIVE",I33*(1-M33),J33*(1-M33)) -> 329.235 | P33: =IF(O33>=K33,(O33*N33),(O33*J33)) -> 0 | Q33: =IF(O33>=K33,N33,J33) -> 438.98
A34: 9 | B34: Huile Fine | C34: Lefranc Bourgeois | D34: 3013643018674 | E34: 3013643018674 | F34: 301867 | G34: LE COFFRET DELUXE | H34: 1 | I34: 45.9 | J34: =I34*(1-$D$12) -> 45.9 | K34: 3 | L34: Substitutive | M34: 0.25 | N34: =IF(L34="SUBSTITUTIVE",I34*(1-M34),J34*(1-M34)) -> 34.425 | P34: =IF(O34>=K34,(O34*N34),(O34*J34)) -> 0 | Q34: =IF(O34>=K34,N34,J34) -> 45.9
A35: 9 | B35: Huile Fine | C35: Lefranc Bourgeois | D35: 3013643018636 | E35: 3013643018636 | F35: 301863 | G35: KIT D'INITIATION | H35: 1 | I35: 38.25 | J35: =I35*(1-$D$12) -> 38.25 | K35: 3 | L35: Substitutive | M35: 0.3 | N35: =IF(L35="SUBSTITUTIVE",I35*(1-M35),J35*(1-M35)) -> 26.775 | P35: =IF(O35>=K35,(O35*N35),(O35*J35)) -> 0 | Q35: =IF(O35>=K35,N35,J35) -> 38.25
A36: 10 | B36: Aquarelle Fine | C36: Lefranc Bourgeois | D36: 3013643014508 | E36: 3013643014508 | F36: 301450 | G36: COFFRET BOIS 12 1/2G | H36: 1 | I36: 37.58 | J36: =I36*(1-$D$12) -> 37.58 | K36: 3 | L36: Substitutive | M36: 0.3 | N36: =IF(L36="SUBSTITUTIVE",I36*(1-M36),J36*(1-M36)) -> 26.306 | P36: =IF(O36>=K36,(O36*N36),(O36*J36)) -> 0 | Q36: =IF(O36>=K36,N36,J36) -> 37.58
A37: 10 | B37: Aquarelle Fine | C37: Lefranc Bourgeois | D37: 3013643014454 | E37: 3013643014454 | F37: 301445 | G37: SET 12 1/2 GODETS | H37: 1 | I37: 16.28 | J37: =I37*(1-$D$12) -> 16.28 | K37: 5 | L37: Substitutive | M37: 0.3 | N37: =IF(L37="SUBSTITUTIVE",I37*(1-M37),J37*(1-M37)) -> 11.396 | P37: =IF(O37>=K37,(O37*N37),(O37*J37)) -> 0 | Q37: =IF(O37>=K37,N37,J37) -> 16.28
A38: 11 | B38: Aquarelle Fine | C38: Lefranc Bourgeois | D38: 3013643014461 | E38: 3013643014461 | F38: 301446 | G38: SET 24 1/2 GODETS | H38: 1 | I38: 18.06 | J38: =I38*(1-$D$12) -> 18.06 | K38: 5 | L38: Substitutive | M38: 0.3 | N38: =IF(L38="SUBSTITUTIVE",I38*(1-M38),J38*(1-M38)) -> 12.642 | P38: =IF(O38>=K38,(O38*N38),(O38*J38)) -> 0 | Q38: =IF(O38>=K38,N38,J38) -> 18.06
A39: 11 | B39: Aquarelle Fine | C39: Lefranc Bourgeois | D39: 3013643014478 | E39: 3013643014478 | F39: 301447 | G39: SET 40 1/2 GODETS | H39: 1 | I39: 24.43 | J39: =I39*(1-$D$12) -> 24.43 | K39: 3 | L39: Substitutive | M39: 0.35 | N39: =IF(L39="SUBSTITUTIVE",I39*(1-M39),J39*(1-M39)) -> 15.8795 | P39: =IF(O39>=K39,(O39*N39),(O39*J39)) -> 0 | Q39: =IF(O39>=K39,N39,J39) -> 24.43
A40: 12 | B40: Aquarelle Extra-Fine | C40: Winsor & Newton | D40: 884955080047 | E40: 884955080047 | F40: 0190815 | G40: SET D'ATELIER 12 TUBES | H40: 1 | I40: 96.59 | J40: =I40*(1-$D$12) -> 96.59 | K40: 2 | L40: Substitutive | M40: 0.25 | N40: =IF(L40="SUBSTITUTIVE",I40*(1-M40),J40*(1-M40)) -> 72.4425 | P40: =IF(O40>=K40,(O40*N40),(O40*J40)) -> 0 | Q40: =IF(O40>=K40,N40,J40) -> 96.59
A41: 12 | B41: Aquarelle Extra-Fine | C41: Winsor & Newton | D41: 884955095409 | E41: 884955095409 | F41: 0190824 | G41: W&N PRO WATERCOLOUR REVIVAL COLLECTION 8 1/2G | H41: 1 | I41: 34.95 | J41: =I41*(1-$D$12) -> 34.95 | K41: 3 | L41: Substitutive | M41: 0.3 | N41: =IF(L41="SUBSTITUTIVE",I41*(1-M41),J41*(1-M41)) -> 24.465 | P41: =IF(O41>=K41,(O41*N41),(O41*J41)) -> 0 | Q41: =IF(O41>=K41,N41,J41) -> 34.95
A42: 13 | B42: Aquarelle Extra-Fine | C42: Winsor & Newton | D42: 094376860825 | E42: 094376860825 | F42: 0190685 | G42: W&N PRO WATERCOLOUR 12 HP SET DE POCHE EXTERIEUR | H42: 1 | I42: 74.31 | J42: =I42*(1-$D$12) -> 74.31 | K42: 1 | L42: Substitutive | M42: 0.3 | N42: =IF(L42="SUBSTITUTIVE",I42*(1-M42),J42*(1-M42)) -> 52.017 | P42: =IF(O42>=K42,(O42*N42),(O42*J42)) -> 0 | Q42: =IF(O42>=K42,N42,J42) -> 74.31
A43: 13 | B43: Aquarelle Extra-Fine | C43: Winsor & Newton | D43: 094376935530 | E43: 094376935530 | F43: 0193548 | G43: BOÎTE MÉTAL DE VOYAGE PERSONNALISABLE 12 1/2 GODETS | H43: 1 | I43: 45.86 | J43: =I43*(1-$D$12) -> 45.86 | K43: 3 | L43: Substitutive | M43: 0.4 | N43: =IF(L43="SUBSTITUTIVE",I43*(1-M43),J43*(1-M43)) -> 27.516 | P43: =IF(O43>=K43,(O43*N43),(O43*J43)) -> 0 | Q43: =IF(O43>=K43,N43,J43) -> 45.86
A44: 14 | B44: Aquarelle Extra-Fine | C44: Winsor & Newton | D44: 884955033166 | E44: 884955033166 | F44: 0190100 | G44: BOÎTE MÉTAL DE VOYAGE 18 1/2 GODETS | H44: 1 | I44: 67.53 | J44: =I44*(1-$D$12) -> 67.53 | K44: 3 | L44: Substitutive | M44: 0.3 | N44: =IF(L44="SUBSTITUTIVE",I44*(1-M44),J44*(1-M44)) -> 47.271 | P44: =IF(O44>=K44,(O44*N44),(O44*J44)) -> 0 | Q44: =IF(O44>=K44,N44,J44) -> 67.53
A45: 14 | B45: Aquarelle Extra-Fine | C45: Winsor & Newton | D45: 094376917444 | E45: 094376917444 | F45: 0190553 | G45: BOÎTE MÉTAL DE VOYAGE COMPLETE - 24 1/2 GODETS | H45: 1 | I45: 88.89 | J45: =I45*(1-$D$12) -> 88.89 | K45: 2 | L45: Substitutive | M45: 0.3 | N45: =IF(L45="SUBSTITUTIVE",I45*(1-M45),J45*(1-M45)) -> 62.223 | P45: =IF(O45>=K45,(O45*N45),(O45*J45)) -> 0 | Q45: =IF(O45>=K45,N45,J45) -> 88.89
A46: 15 | B46: Aquarelle Extra-Fine | C46: Winsor & Newton | D46: 094376917451 | E46: 094376917451 | F46: 0190552 | G46: BOÎTE MÉTAL DE VOYAGE-AQUARELLE EN TUBES X12 | H46: 1 | I46: 45.86 | J46: =I46*(1-$D$12) -> 45.86 | K46: 3 | L46: Substitutive | M46: 0.3 | N46: =IF(L46="SUBSTITUTIVE",I46*(1-M46),J46*(1-M46)) -> 32.102 | P46: =IF(O46>=K46,(O46*N46),(O46*J46)) -> 0 | Q46: =IF(O46>=K46,N46,J46) -> 45.86
A47: 15 | B47: Aquarelle | C47: Winsor & Newton | D47: 884955082706 | E47: 884955082706 | F47: 7003156 | G47: BOITE METAL VIDE POUR AQUARELLES PROFESSIONAL WATERCOLOUR | H47: 1 | I47: 12.02 | J47: =I47*(1-$D$12) -> 12.02 | K47: 5 | L47: Substitutive | M47: 0.3 | N47: =IF(L47="SUBSTITUTIVE",I47*(1-M47),J47*(1-M47)) -> 8.414 | P47: =IF(O47>=K47,(O47*N47),(O47*J47)) -> 0 | Q47: =IF(O47>=K47,N47,J47) -> 12.02
A48: 16 | B48: Aquarelle Fine Cotman | C48: Winsor & Newton | D48: 5012572005838 | E48: 5012572005838 | F48: 0390645 | G48: BOÎTE MÉTAL DE VOYAGE COMPLETE 24 1/2 GODETS | H48: 1 | I48: 50.17 | J48: =I48*(1-$D$12) -> 50.17 | K48: 3 | L48: Substitutive | M48: 0.3 | N48: =IF(L48="SUBSTITUTIVE",I48*(1-M48),J48*(1-M48)) -> 35.119 | P48: =IF(O48>=K48,(O48*N48),(O48*J48)) -> 0 | Q48: =IF(O48>=K48,N48,J48) -> 50.17
A49: 16 | B49: Aquarelle Fine Cotman | C49: Winsor & Newton | D49: 094376919844 | E49: 094376919844 | F49: 0390471 | G49: SET D'ATELIER 45 1/2 GODETS | H49: 1 | I49: 57.36 | J49: =I49*(1-$D$12) -> 57.36 | K49: 10 | L49: Substitutive | M49: 0.5 | N49: =IF(L49="SUBSTITUTIVE",I49*(1-M49),J49*(1-M49)) -> 28.68 | P49: =IF(O49>=K49,(O49*N49),(O49*J49)) -> 0 | Q49: =IF(O49>=K49,N49,J49) -> 57.36
A50: 17 | B50: Aquarelle Fine Cotman | C50: Winsor & Newton | D50: 884955097816 | E50: 884955097816 | F50: 0390708 | G50: COFFRET COTMAN- LES ESSENTIELLES 10X5ML | H50: 1 | I50: 29.49 | J50: =I50*(1-$D$12) -> 29.49 | K50: 5 | L50: Substitutive | M50: 0.35 | N50: =IF(L50="SUBSTITUTIVE",I50*(1-M50),J50*(1-M50)) -> 19.1685 | P50: =IF(O50>=K50,(O50*N50),(O50*J50)) -> 0 | Q50: =IF(O50>=K50,N50,J50) -> 29.49
A51: 17 | B51: Aquarelle Fine Cotman | C51: Winsor & Newton | D51: 094376954401 | E51: 094376954401 | F51: 0390377 | G51: SET DE VOYAGE X12 TUBES | H51: 1 | I51: 32.92 | J51: =I51*(1-$D$12) -> 32.92 | K51: 3 | L51: Substitutive | M51: 0.3 | N51: =IF(L51="SUBSTITUTIVE",I51*(1-M51),J51*(1-M51)) -> 23.044 | P51: =IF(O51>=K51,(O51*N51),(O51*J51)) -> 0 | Q51: =IF(O51>=K51,N51,J51) -> 32.92
A52: 18 | B52: Aquarelle Fine Cotman | C52: Winsor & Newton | D52: 884955090688 | E52: 884955090688 | F52: 0390702 | G52: SET COULEURS METALLIQUES 8 1/2GODETS | H52: 1 | I52: 14.77 | J52: =I52*(1-$D$12) -> 14.77 | K52: 5 | L52: Substitutive | M52: 0.3 | N52: =IF(L52="SUBSTITUTIVE",I52*(1-M52),J52*(1-M52)) -> 10.339 | P52: =IF(O52>=K52,(O52*N52),(O52*J52)) -> 0 | Q52: =IF(O52>=K52,N52,J52) -> 14.77
A53: 18 | B53: Aquarelle Fine Cotman | C53: Winsor & Newton | D53: 884955053683 | E53: 884955053683 | F53: 0390658 | G53: 'SET DE POCHE 12 1/2 GODETS AVEC PINCEAU À RÉSERVOIR D'EAU | H53: 1 | I53: 18.18 | J53: =I53*(1-$D$12) -> 18.18 | K53: 5 | L53: Substitutive | M53: 0.3 | N53: =IF(L53="SUBSTITUTIVE",I53*(1-M53),J53*(1-M53)) -> 12.726 | P53: =IF(O53>=K53,(O53*N53),(O53*J53)) -> 0 | Q53: =IF(O53>=K53,N53,J53) -> 18.18
A54: 19 | B54: Linogravure | C54: Lefranc Bourgeois | D54: 3013643014706 | E54: 3013643014706 | F54: 301470 | G54: KIT D'INITATION A LA LINOGRAVURE | H54: 1 | I54: 35.5 | J54: =I54*(1-$D$12) -> 35.5 | K54: 3 | L54: Substitutive | M54: 0.36 | N54: =IF(L54="SUBSTITUTIVE",I54*(1-M54),J54*(1-M54)) -> 22.72 | P54: =IF(O54>=K54,(O54*N54),(O54*J54)) -> 0 | Q54: =IF(O54>=K54,N54,J54) -> 35.5
A55: 19 | B55: Linel Gouache Extra-Fine | C55: Lefranc Bourgeois | D55: 3013643022046 | E55: 3013643022046 | F55: 302204 | G55: LB LINEL GOUACHE EXTRA-FINE SET 6X14 MATISSE | H55: 1 | I55: 18.35 | J55: =I55*(1-$D$12) -> 18.35 | K55: 3 | L55: Substitutive | M55: 0.3 | N55: =IF(L55="SUBSTITUTIVE",I55*(1-M55),J55*(1-M55)) -> 12.845 | P55: =IF(O55>=K55,(O55*N55),(O55*J55)) -> 0 | Q55: =IF(O55>=K55,N55,J55) -> 18.35 | R55: Nouveauté !
A56: 20 | B56: Linel Gouache Extra-Fine | C56: Lefranc Bourgeois | D56: 3013643020554 | E56: 3013643020554 | F56: 302055 | G56: LB LINEL GOUACHE EXTRA-FINE SET 6X14ML FANTASY | H56: 1 | I56: 18.35 | J56: =I56*(1-$D$12) -> 18.35 | K56: 3 | L56: Substitutive | M56: 0.3 | N56: =IF(L56="SUBSTITUTIVE",I56*(1-M56),J56*(1-M56)) -> 12.845 | P56: =IF(O56>=K56,(O56*N56),(O56*J56)) -> 0 | Q56: =IF(O56>=K56,N56,J56) -> 18.35
A57: 20 | B57: Linel Gouache Extra-Fine | C57: Lefranc Bourgeois | D57: 3013643020561 | E57: 3013643020561 | F57: 302056 | G57: LB LINEL GOUACHE EXTRA-FINE SET 6X14ML VOYAGE | H57: 1 | I57: 18.35 | J57: =I57*(1-$D$12) -> 18.35 | K57: 3 | L57: Substitutive | M57: 0.3 | N57: =IF(L57="SUBSTITUTIVE",I57*(1-M57),J57*(1-M57)) -> 12.845 | P57: =IF(O57>=K57,(O57*N57),(O57*J57)) -> 0 | Q57: =IF(O57>=K57,N57,J57) -> 18.35
A58: 20 | B58: Linel Gouache Extra-Fine | C58: Lefranc Bourgeois | D58: 3013643020578 | E58: 3013643020578 | F58: 302057 | G58: LB LINEL GOUACHE EXTRA-FINE SET 6X14ML DESIGN | H58: 1 | I58: 18.35 | J58: =I58*(1-$D$12) -> 18.35 | K58: 3 | L58: Substitutive | M58: 0.3 | N58: =IF(L58="SUBSTITUTIVE",I58*(1-M58),J58*(1-M58)) -> 12.845 | P58: =IF(O58>=K58,(O58*N58),(O58*J58)) -> 0 | Q58: =IF(O58>=K58,N58,J58) -> 18.35
A59: 21 | B59: Acrylique Galeria | C59: Winsor & Newton | D59: 884955097786 | E59: 884955097786 | F59: 2190614 | G59: COFFRET GALERIA - LES ESSENTIELLES 8X60ML | H59: 1 | I59: 54.62 | J59: =I59*(1-$D$12) -> 54.62 | K59: 3 | L59: Substitutive | M59: 0.3 | N59: =IF(L59="SUBSTITUTIVE",I59*(1-M59),J59*(1-M59)) -> 38.234 | P59: =IF(O59>=K59,(O59*N59),(O59*J59)) -> 0 | Q59: =IF(O59>=K59,N59,J59) -> 54.62
A60: 21 | B60: Acrylique Galeria | C60: Winsor & Newton | D60: 884955097809 | E60: 884955097809 | F60: 2190615 | G60: COFFRET GALERIA - LES ESSENTIELLES 10X12ML | H60: 1 | I60: 29.49 | J60: =I60*(1-$D$12) -> 29.49 | K60: 3 | L60: Substitutive | M60: 0.3 | N60: =IF(L60="SUBSTITUTIVE",I60*(1-M60),J60*(1-M60)) -> 20.643 | P60: =IF(O60>=K60,(O60*N60),(O60*J60)) -> 0 | Q60: =IF(O60>=K60,N60,J60) -> 29.49
A61: 22 | B61: What Would You Create | C61: Liquitex | D61: 887452068822 | E61: 887452068822 | F61: 3699494 | G61: Set 1: Color Trend:Heavy Body:Retro Luxe | H61: 1 | I61: 15 | J61: =I61*(1-$D$12) -> 15 | K61: 3 | L61: Substitutive | M61: 0.33 | N61: =IF(L61="SUBSTITUTIVE",I61*(1-M61),J61*(1-M61)) -> 10.05 | P61: =IF(O61>=K61,(O61*N61),(O61*J61)) -> 0 | Q61: =IF(O61>=K61,N61,J61) -> 15 | R61: Nouveauté !
A62: 22 | B62: What Would You Create | C62: Liquitex | D62: 887452068839 | E62: 887452068839 | F62: 3699495 | G62: Set 2: Color Trend: Heavy Body: Théorie des Gemmes | H62: 1 | I62: 15 | J62: =I62*(1-$D$12) -> 15 | K62: 3 | L62: Substitutive | M62: 0.33 | N62: =IF(L62="SUBSTITUTIVE",I62*(1-M62),J62*(1-M62)) -> 10.05 | P62: =IF(O62>=K62,(O62*N62),(O62*J62)) -> 0 | Q62: =IF(O62>=K62,N62,J62) -> 15 | R62: Nouveauté !
A63: 23 | B63: What Would You Create | C63: Liquitex | D63: 887452068860 | E63: 887452068860 | F63: 3699498 | G63: Set 5: Technique Set: Basics Acrylic: Peinture 3D | H63: 1 | I63: 17.25 | J63: =I63*(1-$D$12) -> 17.25 | K63: 3 | L63: Substitutive | M63: 0.33 | N63: =IF(L63="SUBSTITUTIVE",I63*(1-M63),J63*(1-M63)) -> 11.5575 | P63: =IF(O63>=K63,(O63*N63),(O63*J63)) -> 0 | Q63: =IF(O63>=K63,N63,J63) -> 17.25 | R63: Nouveauté !
A64: 23 | B64: What Would You Create | C64: Liquitex | D64: 887452068877 | E64: 887452068877 | F64: 3699499 | G64: Set 6: Technique Set:Basics Acrylic: Peinture sur Tissu | H64: 1 | I64: 17.25 | J64: =I64*(1-$D$12) -> 17.25 | K64: 3 | L64: Substitutive | M64: 0.33 | N64: =IF(L64="SUBSTITUTIVE",I64*(1-M64),J64*(1-M64)) -> 11.5575 | P64: =IF(O64>=K64,(O64*N64),(O64*J64)) -> 0 | Q64: =IF(O64>=K64,N64,J64) -> 17.25 | R64: Nouveauté !
A65: 23 | B65: What Would You Create | C65: Liquitex | D65: 887452068884 | E65: 887452068884 | F65: 3699500 | G65: Set 7: Technique Set: Liquitex Acrylic Ink: Teinture sur Tissu | H65: 1 | I65: 18.75 | J65: =I65*(1-$D$12) -> 18.75 | K65: 3 | L65: Substitutive | M65: 0.33 | N65: =IF(L65="SUBSTITUTIVE",I65*(1-M65),J65*(1-M65)) -> 12.5625 | P65: =IF(O65>=K65,(O65*N65),(O65*J65)) -> 0 | Q65: =IF(O65>=K65,N65,J65) -> 18.75 | R65: Nouveauté !
A66: 24 | B66: What Would You Create | C66: Liquitex | D66: 887452068891 | E66: 887452068891 | F66: 3699501 | G66: Set 8: Set du Créateur | H66: 1 | I66: 18.75 | J66: =I66*(1-$D$12) -> 18.75 | K66: 3 | L66: Substitutive | M66: 0.33 | N66: =IF(L66="SUBSTITUTIVE",I66*(1-M66),J66*(1-M66)) -> 12.5625 | P66: =IF(O66>=K66,(O66*N66),(O66*J66)) -> 0 | Q66: =IF(O66>=K66,N66,J66) -> 18.75 | R66: Nouveauté !
A67: 24 | B67: What Would You Create | C67: Liquitex | D67: 887452069140 | E67: 887452069140 | F67: 3699506 | G67: Set 9 : Techniques Mixtes | H67: 1 | I67: 19.99 | J67: =I67*(1-$D$12) -> 19.99 | K67: 3 | L67: Substitutive | M67: 0.33 | N67: =IF(L67="SUBSTITUTIVE",I67*(1-M67),J67*(1-M67)) -> 13.3933 | P67: =IF(O67>=K67,(O67*N67),(O67*J67)) -> 0 | Q67: =IF(O67>=K67,N67,J67) -> 19.99 | R67: Nouveauté !
A68: 25 | B68: Acrylique Heavy Body | C68: Liquitex | D68: 887452997467 | E68: 887452997467 | F68: 3699312 | G68: SET CLASSIQUE HEAVY BODY 12X59 ML | H68: 1 | I68: 89.58 | J68: =I68*(1-$D$12) -> 89.58 | K68: 2 | L68: Substitutive | M68: 0.4 | N68: =IF(L68="SUBSTITUTIVE",I68*(1-M68),J68*(1-M68)) -> 53.748 | P68: =IF(O68>=K68,(O68*N68),(O68*J68)) -> 0 | Q68: =IF(O68>=K68,N68,J68) -> 89.58
A69: 25 | B69: Acrylique Basics | C69: Liquitex | D69: 887452050230 | E69: 887452050230 | F69: 3699404 | G69: SET ACRYLIQUE BASICS 36 TUBES X 22 ML | H69: 1 | I69: 37.87 | J69: =I69*(1-$D$12) -> 37.87 | K69: 5 | L69: Substitutive | M69: 0.35 | N69: =IF(L69="SUBSTITUTIVE",I69*(1-M69),J69*(1-M69)) -> 24.6155 | P69: =IF(O69>=K69,(O69*N69),(O69*J69)) -> 0 | Q69: =IF(O69>=K69,N69,J69) -> 37.87
A70: 26 | B70: Acrylique Basics | C70: Liquitex | D70: 887452050148 | E70: 887452050148 | F70: 3699395 | G70: SET ACRYLIQUE BASICS 48 TUBES X 22 ML | H70: 1 | I70: 49.42 | J70: =I70*(1-$D$12) -> 49.42 | K70: 5 | L70: Substitutive | M70: 0.35 | N70: =IF(L70="SUBSTITUTIVE",I70*(1-M70),J70*(1-M70)) -> 32.123 | P70: =IF(O70>=K70,(O70*N70),(O70*J70)) -> 0 | Q70: =IF(O70>=K70,N70,J70) -> 49.42
A71: 26 | B71: Acrylique Basics | C71: Liquitex | D71: 887452050209 | E71: 887452050209 | F71: 3699401 | G71: SET ACRYLIQUE BASICS 72 TUBES X22 ML | H71: 1 | I71: 72.68 | J71: =I71*(1-$D$12) -> 72.68 | K71: 3 | L71: Substitutive | M71: 0.35 | N71: =IF(L71="SUBSTITUTIVE",I71*(1-M71),J71*(1-M71)) -> 47.242 | P71: =IF(O71>=K71,(O71*N71),(O71*J71)) -> 0 | Q71: =IF(O71>=K71,N71,J71) -> 72.68
A72: 27 | B72: Markers | C72: Liquitex | D72: 887452065654 | E72: 887452065654 | F72: 3699490 | G72: LQX MARKER 40X2MM SET - RADICAL | H72: 1 | I72: 66.4 | J72: =I72*(1-$D$12) -> 66.4 | K72: 3 | L72: Substitutive | M72: 0.35 | N72: =IF(L72="SUBSTITUTIVE",I72*(1-M72),J72*(1-M72)) -> 43.16 | P72: =IF(O72>=K72,(O72*N72),(O72*J72)) -> 0 | Q72: =IF(O72>=K72,N72,J72) -> 66.4 | R72: Nouveauté !
A73: 27 | B73: Markers | C73: Liquitex | D73: 887452065647 | E73: 887452065647 | F73: 3699489 | G73: LQX MARKER 16X2MM SET - EXPRESSION | H73: 1 | I73: 26.6 | J73: =I73*(1-$D$12) -> 26.6 | K73: 5 | L73: Substitutive | M73: 0.35 | N73: =IF(L73="SUBSTITUTIVE",I73*(1-M73),J73*(1-M73)) -> 17.29 | P73: =IF(O73>=K73,(O73*N73),(O73*J73)) -> 0 | Q73: =IF(O73>=K73,N73,J73) -> 26.6 | R73: Nouveauté !
A74: 28 | B74: Markers | C74: Liquitex | D74: 887452065623 | E74: 887452065623 | F74: 3699487 | G74: LQX MARKER 8X2MM SET - METALLIC COLOURS | H74: 1 | I74: 13.3 | J74: =I74*(1-$D$12) -> 13.3 | K74: 5 | L74: Substitutive | M74: 0.35 | N74: =IF(L74="SUBSTITUTIVE",I74*(1-M74),J74*(1-M74)) -> 8.645 | P74: =IF(O74>=K74,(O74*N74),(O74*J74)) -> 0 | Q74: =IF(O74>=K74,N74,J74) -> 13.3 | R74: Nouveauté !
A75: 28 | B75: Markers | C75: Liquitex | D75: 887452065593 | E75: 887452065593 | F75: 3699484 | G75: LQX MARKER 8X2MM SET - ESSENTIAL | H75: 1 | I75: 13.3 | J75: =I75*(1-$D$12) -> 13.3 | K75: 5 | L75: Substitutive | M75: 0.35 | N75: =IF(L75="SUBSTITUTIVE",I75*(1-M75),J75*(1-M75)) -> 8.645 | P75: =IF(O75>=K75,(O75*N75),(O75*J75)) -> 0 | Q75: =IF(O75>=K75,N75,J75) -> 13.3 | R75: Nouveauté !
A76: 29 | B76: Pinceaux | C76: Winsor & Newton | D76: 884955095508 | E76: 884955095508 | F76: 5010901 | G76: SET PINCEAUX EN POILS SYNTHÉTIQUES X4 - PLAT COURT N°8/ROND N°3,6/USÉ BOMBÉ N°4 | H76: 1 | I76: 25.35 | J76: =I76*(1-$D$12) -> 25.35 | K76: 3 | L76: Substitutive | M76: 0.25 | N76: =IF(L76="SUBSTITUTIVE",I76*(1-M76),J76*(1-M76)) -> 19.0125 | P76: =IF(O76>=K76,(O76*N76),(O76*J76)) -> 0 | Q76: =IF(O76>=K76,N76,J76) -> 25.35
A77: 29 | B77: Pinceaux | C77: Winsor & Newton | D77: 884955095515 | E77: 884955095515 | F77: 5010902 | G77: SETS PINCEAUX EN POILS SYNTHÉTIQUES X8 - USÉ BOMBÉ N°4,10/ PLAT COURT N°12/PLAT N°2/ROND N°1,8/EVENTAIL N°6/GLACIS 1" | H77: 1 | I77: 65.66 | J77: =I77*(1-$D$12) -> 65.66 | K77: 2 | L77: Substitutive | M77: 0.25 | N77: =IF(L77="SUBSTITUTIVE",I77*(1-M77),J77*(1-M77)) -> 49.245 | P77: =IF(O77>=K77,(O77*N77),(O77*J77)) -> 0 | Q77: =IF(O77>=K77,N77,J77) -> 65.66
A78: 29 | B78: Pinceaux | C78: Winsor & Newton | D78: 884955095485 | E78: 884955095485 | F78: 5011701 | G78: SET PINCEAUX EN MARTRE SYNTHÉTIQUE X4 - ROND N°6/À LETTRES N°0/ROND À POINTE N°2/PLAT COURT 1/4" | H78: 1 | I78: 37.32 | J78: =I78*(1-$D$12) -> 37.32 | K78: 3 | L78: Substitutive | M78: 0.25 | N78: =IF(L78="SUBSTITUTIVE",I78*(1-M78),J78*(1-M78)) -> 27.99 | P78: =IF(O78>=K78,(O78*N78),(O78*J78)) -> 0 | Q78: =IF(O78>=K78,N78,J78) -> 37.32
A79: 29 | B79: Pinceaux | C79: Winsor & Newton | D79: 884955095492 | E79: 884955095492 | F79: 5011702 | G79: SET PINCEAUX SYNTHÉTIQUES X8 - PINCEAUX EN POILS DE MARTRE SYNTHÉTIQUE : ROND À POINTE N°4/PLAT COURT 1/2"/A LAVIS 1"/ROND N° 0,1,3,8 PETIT-GRIS SYNTHÉTIQUE : PLUME N°6 | H79: 1 | I79: 87.29 | J79: =I79*(1-$D$12) -> 87.29 | K79: 2 | L79: Substitutive | M79: 0.25 | N79: =IF(L79="SUBSTITUTIVE",I79*(1-M79),J79*(1-M79)) -> 65.4675 | P79: =IF(O79>=K79,(O79*N79),(O79*J79)) -> 0 | Q79: =IF(O79>=K79,N79,J79) -> 87.29
A80: 30 | B80: Mannequins | C80: Lefranc Bourgeois | D80: 3013648061583 | E80: 3013648061583 | F80: 806158 | G80: MANNEQUIN HOMME 30 CM | H80: 1 | I80: 6.59 | J80: =I80*(1-$D$12) -> 6.59 | K80: 5 | L80: Substitutive | M80: 0.3 | N80: =IF(L80="SUBSTITUTIVE",I80*(1-M80),J80*(1-M80)) -> 4.613 | P80: =IF(O80>=K80,(O80*N80),(O80*J80)) -> 0 | Q80: =IF(O80>=K80,N80,J80) -> 6.59
A81: 30 | B81: Mannequins | C81: Lefranc Bourgeois | D81: 3013648061811 | E81: 3013648061811 | F81: 806181 | G81: MANNEQUIN FEMME 30 CM | H81: 1 | I81: 6.59 | J81: =I81*(1-$D$12) -> 6.59 | K81: 5 | L81: Substitutive | M81: 0.3 | N81: =IF(L81="SUBSTITUTIVE",I81*(1-M81),J81*(1-M81)) -> 4.613 | P81: =IF(O81>=K81,(O81*N81),(O81*J81)) -> 0 | Q81: =IF(O81>=K81,N81,J81) -> 6.59
A82: 30 | B82: Mannequins | C82: Lefranc Bourgeois | D82: 3013644400928 | E82: 3013644400928 | F82: 440092 | G82: MINI MANNEQUIN | H82: 1 | I82: 2.72 | J82: =I82*(1-$D$12) -> 2.72 | K82: 10 | L82: Substitutive | M82: 0.3 | N82: =IF(L82="SUBSTITUTIVE",I82*(1-M82),J82*(1-M82)) -> 1.904 | P82: =IF(O82>=K82,(O82*N82),(O82*J82)) -> 0 | Q82: =IF(O82>=K82,N82,J82) -> 2.72
A83: 30 | B83: Chevalets | C83: Lefranc Bourgeois | D83: 3013644400935 | E83: 3013644400935 | F83: 440093 | G83: SET DE 2 MINI CHEVALETS | H83: 1 | I83: 2.55 | J83: =I83*(1-$D$12) -> 2.55 | K83: 10 | L83: Substitutive | M83: 0.3 | N83: =IF(L83="SUBSTITUTIVE",I83*(1-M83),J83*(1-M83)) -> 1.785 | P83: =IF(O83>=K83,(O83*N83),(O83*J83)) -> 0 | Q83: =IF(O83>=K83,N83,J83) -> 2.55
A84: 31 | B84: Chevalets | C84: Lefranc Bourgeois | D84: 3013644400478 | E84: 3013644400478 | F84: 440047 | G84: CHEVALET PIN COURBET | H84: 4 | I84: 29.91 | J84: =I84*(1-$D$12) -> 29.91 | K84: 4 | L84: Substitutive | M84: 0.3 | N84: =IF(L84="SUBSTITUTIVE",I84*(1-M84),J84*(1-M84)) -> 20.937 | P84: =IF(O84>=K84,(O84*N84),(O84*J84)) -> 0 | Q84: =IF(O84>=K84,N84,J84) -> 29.91
A85: 31 | B85: Chevalets | C85: Lefranc Bourgeois | D85: 3013644400256 | E85: 3013644400256 | F85: 440025 | G85: CHEVALET TABLE BAZILLE | H85: 1 | I85: 11.43 | J85: =I85*(1-$D$12) -> 11.43 | K85: 25 assortis | L85: Substitutive | M85: 0.42 | N85: =IF(L85="SUBSTITUTIVE",I85*(1-M85),J85*(1-M85)) -> 6.6294 | P85: =IF(O85>=K85,(O85*N85),(O85*J85)) -> 0 | Q85: =IF((SUM($O$85:$O$98))>=25,N85,J85) -> 11.43
A86: 31 | B86: Chevalets | C86: Lefranc Bourgeois | D86: 3013644400331 | E86: 3013644400331 | F86: 440033 | G86: CHEVALET DE TABLE MIRO | H86: 1 | I86: 15.49 | J86: =I86*(1-$D$12) -> 15.49 | K86: 25 assortis | L86: Substitutive | M86: 0.42 | N86: =IF(L86="SUBSTITUTIVE",I86*(1-M86),J86*(1-M86)) -> 8.9842 | P86: =IF(O86>=K86,(O86*N86),(O86*J86)) -> 0 | Q86: =IF((SUM($O$85:$O$98))>=25,N86,J86) -> 15.49
A87: 31 | B87: Chevalets | C87: Lefranc Bourgeois | D87: 3013644400300 | E87: 3013644400300 | F87: 440030 | G87: CHEVALET DE TABLE MINI VELAZQUEZ | H87: 1 | I87: 17.06 | J87: =I87*(1-$D$12) -> 17.06 | K87: 25 assortis | L87: Substitutive | M87: 0.42 | N87: =IF(L87="SUBSTITUTIVE",I87*(1-M87),J87*(1-M87)) -> 9.8948 | P87: =IF(O87>=K87,(O87*N87),(O87*J87)) -> 0 | Q87: =IF((SUM($O$85:$O$98))>=25,N87,J87) -> 17.06
A88: 31 | B88: Chevalets | C88: Lefranc Bourgeois | D88: 3013644400294 | E88: 3013644400294 | F88: 440029 | G88: CHEVALET DE TABLE VAN EYCK | H88: 1 | I88: 42.11 | J88: =I88*(1-$D$12) -> 42.11 | K88: 25 assortis | L88: Substitutive | M88: 0.42 | N88: =IF(L88="SUBSTITUTIVE",I88*(1-M88),J88*(1-M88)) -> 24.4238 | P88: =IF(O88>=K88,(O88*N88),(O88*J88)) -> 0 | Q88: =IF((SUM($O$85:$O$98))>=25,N88,J88) -> 42.11
A89: 31 | B89: Chevalets | C89: Lefranc Bourgeois | D89: 3013644400447 | E89: 3013644400447 | F89: 440044 | G89: CHEVALET DE TABLE BOTTICELLI | H89: 1 | I89: 84.22 | J89: =I89*(1-$D$12) -> 84.22 | K89: 25 assortis | L89: Substitutive | M89: 0.42 | N89: =IF(L89="SUBSTITUTIVE",I89*(1-M89),J89*(1-M89)) -> 48.8476 | P89: =IF(O89>=K89,(O89*N89),(O89*J89)) -> 0 | Q89: =IF((SUM($O$85:$O$98))>=25,N89,J89) -> 84.22
A90: 32 | B90: Chevalets | C90: No Brand | D90: 884955061961 | E90: 884955061961 | F90: 7006555 | G90: BOÎTE CHEVALET EN BOIS DE HÊTRE VERNIS - LIFFEY | H90: 1 | I90: 24.03 | J90: =I90*(1-$D$12) -> 24.03 | K90: 25 assortis | L90: Substitutive | M90: 0.42 | N90: =IF(L90="SUBSTITUTIVE",I90*(1-M90),J90*(1-M90)) -> 13.9374 | P90: =IF(O90>=K90,(O90*N90),(O90*J90)) -> 0 | Q90: =IF((SUM($O$85:$O$98))>=25,N90,J90) -> 24.03
A91: 32 | B91: Chevalets | C91: No Brand | D91: 884955062005 | E91: 884955062005 | F91: 7006559 | G91: CHEVALET DE TABLE EN BOIS DE HÊTRE HUILÉ - RHINE | H91: 1 | I91: 8.12 | J91: =I91*(1-$D$12) -> 8.12 | K91: 25 assortis | L91: Substitutive | M91: 0.42 | N91: =IF(L91="SUBSTITUTIVE",I91*(1-M91),J91*(1-M91)) -> 4.7096 | P91: =IF(O91>=K91,(O91*N91),(O91*J91)) -> 0 | Q91: =IF((SUM($O$85:$O$98))>=25,N91,J91) -> 8.12
A92: 32 | B92: Chevalets | C92: No Brand | D92: 884955061992 | E92: 884955061992 | F92: 7006558 | G92: CHEVALET DE TABLE EN BOIS DE HÊTRE HUILÉ - VARDE | H92: 1 | I92: 28.44 | J92: =I92*(1-$D$12) -> 28.44 | K92: 25 assortis | L92: Substitutive | M92: 0.42 | N92: =IF(L92="SUBSTITUTIVE",I92*(1-M92),J92*(1-M92)) -> 16.4952 | P92: =IF(O92>=K92,(O92*N92),(O92*J92)) -> 0 | Q92: =IF((SUM($O$85:$O$98))>=25,N92,J92) -> 28.44
A93: 32 | B93: Chevalets | C93: No Brand | D93: 884955061923 | E93: 884955061923 | F93: 7006551 | G93: CHEVALET DE CAMPAGNE EN BOIS DE HÊTRE HUILÉ - SEINE | H93: 1 | I93: 24.58 | J93: =I93*(1-$D$12) -> 24.58 | K93: 25 assortis | L93: Substitutive | M93: 0.42 | N93: =IF(L93="SUBSTITUTIVE",I93*(1-M93),J93*(1-M93)) -> 14.2564 | P93: =IF(O93>=K93,(O93*N93),(O93*J93)) -> 0 | Q93: =IF((SUM($O$85:$O$98))>=25,N93,J93) -> 24.58
A94: 32 | B94: Chevalets | C94: No Brand | D94: 884955061930 | E94: 884955061930 | F94: 706552 | G94: CHEVALET D'ATELIER EN BOIS DE HÊTRE HUILÉ - PÔ | H94: 2 | I94: 41.52 | J94: =I94*(1-$D$12) -> 41.52 | K94: 25 assortis | L94: Substitutive | M94: 0.42 | N94: =IF(L94="SUBSTITUTIVE",I94*(1-M94),J94*(1-M94)) -> 24.0816 | P94: =IF(O94>=K94,(O94*N94),(O94*J94)) -> 0 | Q94: =IF((SUM($O$85:$O$98))>=25,N94,J94) -> 41.52
A95: 32 | B95: Chevalets | C95: No Brand | D95: 884955061947 | E95: 884955061947 | F95: 706553 | G95: CHEVALET D'ATELIER EN BOIS DE HÊTRE HUILÉ - TIBER | H95: 2 | I95: 115.9 | J95: =I95*(1-$D$12) -> 115.9 | K95: 25 assortis | L95: Substitutive | M95: 0.42 | N95: =IF(L95="SUBSTITUTIVE",I95*(1-M95),J95*(1-M95)) -> 67.222 | P95: =IF(O95>=K95,(O95*N95),(O95*J95)) -> 0 | Q95: =IF((SUM($O$85:$O$98))>=25,N95,J95) -> 115.9
A96: 32 | B96: Chevalets | C96: No Brand | D96: 884955061954 | E96: 884955061954 | F96: 706554 | G96: CHEVALET D'ATELIER EN BOIS DE HÊTRE HUILÉ - LEA | H96: 1 | I96: 96.14 | J96: =I96*(1-$D$12) -> 96.14 | K96: 25 assortis | L96: Substitutive | M96: 0.42 | N96: =IF(L96="SUBSTITUTIVE",I96*(1-M96),J96*(1-M96)) -> 55.7612 | P96: =IF(O96>=K96,(O96*N96),(O96*J96)) -> 0 | Q96: =IF((SUM($O$85:$O$98))>=25,N96,J96) -> 96.14
... A98: 32 | B98: Chevalets | C98: No Brand | D98: 884955061985 | E98: 884955061985 | F98: 706557 | G98: STATION DE TRAVAIL A2 EN BOIS DE HÊTRE VERNIS - DANUBE | H98: 1 | I98: 31.82 | J98: =I98*(1-$D$12) -> 31.82 | K98: 25 assortis | L98: Substitutive | M98: 0.42 | N98: =IF(L98="SUBSTITUTIVE",I98*(1-M98),J98*(1-M98)) -> 18.4556 | P98: =IF(O98>=K98,(O98*N98),(O98*J98)) -> 0 | Q98: =IF((SUM($O$85:$O$98))>=25,N98,J98) -> 31.82
A99: 33 | B99: Promarker Assortis | C99: Winsor & Newton | D99: 884955099612 | E99: 884955099612 | F99: 0290201 | G99: TROUSSE 24 PROMARKER ASSORTIS - DESIGN | H99: 1 | I99: 49.38 | J99: =I99*(1-$D$12) -> 49.38 | K99: 3 | L99: Substitutive | M99: 0.35 | N99: =IF(L99="SUBSTITUTIVE",I99*(1-M99),J99*(1-M99)) -> 32.097 | P99: =IF(O99>=K99,(O99*N99),(O99*J99)) -> 0 | Q99: =IF(O99>=K99,N99,J99) -> 49.38 | R99: Nouveauté !
A100: 33 | B100: Promarker Assortis | C100: Winsor & Newton | D100: 884955099629 | E100: 884955099629 | F100: 0290202 | G100: TROUSSE 24 PROMARKER ASSORTIS - LETTRAGE MODERNE | H100: 1 | I100: 49.38 | J100: =I100*(1-$D$12) -> 49.38 | K100: 3 | L100: Substitutive | M100: 0.35 | N100: =IF(L100="SUBSTITUTIVE",I100*(1-M100),J100*(1-M100)) -> 32.097 | P100: =IF(O100>=K100,(O100*N100),(O100*J100)) -> 0 | Q100: =IF(O100>=K100,N100,J100) -> 49.38 | R100: Nouveauté !
A101: 34 | B101: Promarker Assortis | C101: Winsor & Newton | D101: 884955043363 | E101: 884955043363 | F101: 0290037 | G101: TROUSSE 24 PROMARKER - ASSORTIS | H101: 1 | I101: 48.76 | J101: =I101*(1-$D$12) -> 48.76 | K101: 3 | L101: Substitutive | M101: 0.35 | N101: =IF(L101="SUBSTITUTIVE",I101*(1-M101),J101*(1-M101)) -> 31.694 | P101: =IF(O101>=K101,(O101*N101),(O101*J101)) -> 0 | Q101: =IF(O101>=K101,N101,J101) -> 48.76
A102: 34 | B102: Promarker Watercolour | C102: Winsor & Newton | D102: 884955080054 | E102: 884955080054 | F102: 0290171 | G102: TROUSSE 24 PROMARKER WATERCOLOUR | H102: 1 | I102: 66.97 | J102: =I102*(1-$D$12) -> 66.97 | K102: 3 | L102: Substitutive | M102: 0.35 | N102: =IF(L102="SUBSTITUTIVE",I102*(1-M102),J102*(1-M102)) -> 43.5305 | P102: =IF(O102>=K102,(O102*N102),(O102*J102)) -> 0 | Q102: =IF(O102>=K102,N102,J102) -> 66.97
A103: 35 | B103: Promarker | C103: Winsor & Newton | D103: 884955043295 | E103: 884955043295 | F103: 0290030 | G103: TROUSSE 24 PROMARKER - ETUDIANT DESIGNER | H103: 1 | I103: 48.76 | J103: =I103*(1-$D$12) -> 48.76 | K103: 3 | L103: Substitutive | M103: 0.35 | N103: =IF(L103="SUBSTITUTIVE",I103*(1-M103),J103*(1-M103)) -> 31.694 | P103: =IF(O103>=K103,(O103*N103),(O103*J103)) -> 0 | Q103: =IF(O103>=K103,N103,J103) -> 48.76
A104: 35 | B104: Promarker | C104: Winsor & Newton | D104: 884955063439 | E104: 884955063439 | F104: 0290078 | G104: TROUSSE 24 PROMARKER - ART ET ILLUSTRATIONS | H104: 1 | I104: 48.76 | J104: =I104*(1-$D$12) -> 48.76 | K104: 3 | L104: Substitutive | M104: 0.35 | N104: =IF(L104="SUBSTITUTIVE",I104*(1-M104),J104*(1-M104)) -> 31.694 | P104: =IF(O104>=K104,(O104*N104),(O104*J104)) -> 0 | Q104: =IF(O104>=K104,N104,J104) -> 48.76
A105: 36 | B105: Promarker | C105: Winsor & Newton | D105: 884955063460 | E105: 884955063460 | F105: 0290081 | G105: TROUSSE 24 PROMARKER - TONALITÉS GRISES ET NOIRES | H105: 1 | I105: 48.76 | J105: =I105*(1-$D$12) -> 48.76 | K105: 3 | L105: Substitutive | M105: 0.35 | N105: =IF(L105="SUBSTITUTIVE",I105*(1-M105),J105*(1-M105)) -> 31.694 | P105: =IF(O105>=K105,(O105*N105),(O105*J105)) -> 0 | Q105: =IF(O105>=K105,N105,J105) -> 48.76
...

Sheet Récap B2B
A1: 3013643022398 | B1: =VLOOKUP(A1,'PROMOS PRODUITS'!D:O,12,FALSE) -> #N/A
A2: 3013643022480 | B2: =VLOOKUP(A2,'PROMOS PRODUITS'!D:O,12,FALSE) -> #N/A
A3: 3013643022473 | B3: =VLOOKUP(A3,'PROMOS PRODUITS'!D:O,12,FALSE) -> #N/A
A4: 3013643022497 | B4: =VLOOKUP(A4,'PROMOS PRODUITS'!D:O,12,FALSE) -> #N/A
A5: 884955099230 | B5: =VLOOKUP(A5,'PROMOS PRODUITS'!D:O,12,FALSE) -> #N/A
A6: 884955099247 | B6: =VLOOKUP(A6,'PROMOS PRODUITS'!D:O,12,FALSE) -> #N/A
A7: 884955102138 | B7: =VLOOKUP(A7,'PROMOS PRODUITS'!D:O,12,FALSE) -> #N/A
A8: 884955097823 | B8: =VLOOKUP(A8,'PROMOS PRODUITS'!D:O,12,FALSE) -> #N/A
A9: 884955097090 | B9: =VLOOKUP(A9,'PROMOS PRODUITS'!D:O,12,FALSE) -> #N/A
A10: 884955097106 | B10: =VLOOKUP(A10,'PROMOS PRODUITS'!D:O,12,FALSE) -> #N/A
A11: 884955097113 | B11: =VLOOKUP(A11,'PROMOS PRODUITS'!D:O,12,FALSE) -> #N/A
A12: 884955097847 | B12: =VLOOKUP(A12,'PROMOS PRODUITS'!D:O,12,FALSE) -> #N/A
... A24: 884955095409 | B24: =VLOOKUP(A24,'PROMOS PRODUITS'!D:O,12,FALSE) -> #N/A
A25: 094376860825
A26: 094376935530
A27: 884955033166
A28: 094376917444
A29: 094376917451
A30: 884955082706
A31: 5012572005838
A32: 094376919844
A33: 884955097816
A34: 094376954401
A35: 884955090688
A36: 884955053683
A37: 3013643014706
A38: 3013643022046
A39: 3013643020554
A40: 3013643020561
A41: 3013643020578
A42: 884955097786
A43: 884955097809
A44: 887452068822
A45: 887452068839
A46: 887452068860
... A126: 766416808189
A127: 766416808202
A128: 766416129512
A129: 766416129529
A130: 766416200624
A131: 8906132760541
A132: 8906132760534
A133: 8906132760398
A134: 8906132760510
A135: 8906132760527
