Workbook

Sheet PROMOS PRODUITS
B1: LES OFFRES SPÉCIALES
A2: #VALUE! | B2: LES OFFRES SPÉCIALES DE FIN D'ANNÉE
B3: Valable du 15 septembre au 31 décembre 2026
A5: COMPTE CLIENT N°
A6: TYPE DE COMMANDE
A7: MOTIF TRANSACTION
A8: COMMANDE CLIENT N°
A9: DATE DE COMMANDE CLIENT
A10: DATE DE LIVRAISON DEMANDEE
A12: REMISE CLIENT:
A14: Codes-barres visibles en téléchargeant la police | G14: https://www.dafont.com/fr/c39hrp48dhtt.font
A16: N° de page dans la plaquette | B16: Gamme | C16: Marque | D16: EAN | E16: Codes barres | F16: Code produit | G16: Désignation | H16: UV | I16: tarif HT 2026 | J16: PRIX PERMANENT 2026 | K16: Qté promo | L16: Type de remise | M16: % de remise | N16: Prix Promo | O16: Qté | P16: Total | Q16: PRIX APPLIQUE DANS LA COMMANDE
L17: Complémentaire | Q17: =IF(#REF!>=20,N17,J17) -> #REF!
A18: 2 | B18: Techniques Mixtes | C18: Conté à Paris | D18: 3013643022398 | E18: 3013643022398 | F18: 302239 | G18: CAP & LB ADVENT CALENDAR | H18: 1 | I18: 38 | J18: =I18*(1-$D$12) -> 38 | K18: 3 | L18: Substitutive | M18: 0.28 | N18: =IF(L18="SUBSTITUTIVE",I18*(1-M18),J18*(1-M18)) -> 27.36 | P18: =IF(O18>=K18,(O18*N18),(O18*J18)) -> 0 | Q18: =IF(O18>=K18,N18,J18) -> 38 | R18: Nouveauté !
A19: 3 | B19: Aquarelle Fine | C19: Lefranc Bourgeois | D19: 3013643022480 | E19: 3013643022480 | F19: 302248 | G19: LB KIT AQUARELLE DOLCE VITA | H19: 1 | I19: 27 | J19: =I19*(1-$D$12) -> 27 | K19: 3 | L19: Substitutive | M19: 0.28 | N19: =IF(L19="SUBSTITUTIVE",I19*(1-M19),J19*(1-M19)) -> 19.44 | P19: =IF(O19>=K19,(O19*N19),(O19*J19)) -> 0 | Q19: =IF(O19>=K19,N19,J19) -> 27 | R19: Nouveauté !
A20: 3 | B20: Aquarelle Fine | C20: Lefranc Bourgeois | D20: 3013643022473 | E20: 3013643022473 | F20: 302247 | G20: LB START ACRYLIC COLOUR KIT PARIS | H20: 1 | I20: 27 | J20: =I20*(1-$D$12) -> 27 | K20: 3 | L20: Substitutive | M20: 0.28 | N20: =IF(L20="SUBSTITUTIVE",I20*(1-M20),J20*(1-M20)) -> 19.44 | P20: =IF(O20>=K20,(O20*N20),(O20*J20)) -> 0 | Q20: =IF(O20>=K20,N20,J20) -> 27 | R20: Nouveauté !
A21: 3 | B21: Aquarelle Fine | C21: Lefranc Bourgeois | D21: 3013643022497 | E21: 3013643022497 | F21: 302249 | G21: LB LINEL GOUACHE EXTRA-FINE KIT FLOWER POWER | H21: 1 | I21: 27 | J21: =I21*(1-$D$12) -> 27 | K21: 3 | L21: Substitutive | M21: 0.28 | N21: =IF(L21="SUBSTITUTIVE",I21*(1-M21),J21*(1-M21)) -> 19.44 | P21: =IF(O21>=K21,(O21*N21),(O21*J21)) -> 0 | Q21: =IF(O21>=K21,N21,J21) -> 27 | R21: Nouveauté !
A22: 4 | B22: Techniques Mixtes | C22: Winsor & Newton | D22: 884955099230 | E22: 884955099230 | F22: 0290199 | G22: COFFRET MIXED MEDIA SET - FASHION | H22: 1 | I22: 30.6 | J22: =I22*(1-$D$12) -> 30.6 | K22: 3 | L22: Substitutive | M22: 0.35 | N22: =IF(L22="SUBSTITUTIVE",I22*(1-M22),J22*(1-M22)) -> 19.89 | P22: =IF(O22>=K22,(O22*N22),(O22*J22)) -> 0 | Q22: =IF(O22>=K22,N22,J22) -> 30.6
A23: 4 | B23: Techniques Mixtes | C23: Winsor & Newton | D23: 884955099247 | E23: 884955099247 | F23: 0290200 | G23: COFFRET MIXED MEDIA SET - URBAN | H23: 1 | I23: 30.6 | J23: =I23*(1-$D$12) -> 30.6 | K23: 3 | L23: Substitutive | M23: 0.35 | N23: =IF(L23="SUBSTITUTIVE",I23*(1-M23),J23*(1-M23)) -> 19.89 | P23: =IF(O23>=K23,(O23*N23),(O23*J23)) -> 0 | Q23: =IF(O23>=K23,N23,J23) -> 30.6
A24: 5 | B24: Techniques Mixtes | C24: Winsor & Newton | D24: 884955102138 | E24: 884955102138 | F24: 0290203 | G24: COFFRET MIXED MEDIA - MANGA SET 2 | H24: 1 | I24: 27.54 | J24: =I24*(1-$D$12) -> 27.54 | K24: 3 | L24: Substitutive | M24: 0.35 | N24: =IF(L24="SUBSTITUTIVE",I24*(1-M24),J24*(1-M24)) -> 17.901 | P24: =IF(O24>=K24,(O24*N24),(O24*J24)) -> 0 | Q24: =IF(O24>=K24,N24,J24) -> 27.54 | R24: Nouveauté !
A25: 5 | B25: Techniques Mixtes | C25: Winsor & Newton | D25: 884955097823 | E25: 884955097823 | F25: 0290197 | G25: COFFRET MIXED MEDIA - MANGA | H25: 1 | I25: 27.54 | J25: =I25*(1-$D$12) -> 27.54 | K25: 3 | L25: Substitutive | M25: 0.35 | N25: =IF(L25="SUBSTITUTIVE",I25*(1-M25),J25*(1-M25)) -> 17.901 | P25: =IF(O25>=K25,(O25*N25),(O25*J25)) -> 0 | Q25: =IF(O25>=K25,N25,J25) -> 27.54
A26: 6 | B26: Techniques Mixtes | C26: Winsor & Newton | D26: 884955097090 | E26: 884955097090 | F26: 0290180 | G26: COFFRET MIXED MEDIA - ILLUSTRATION | H26: 1 | I26: 30.6 | J26: =I26*(1-$D$12) -> 30.6 | K26: 3 | L26: Substitutive | M26: 0.35 | N26: =IF(L26="SUBSTITUTIVE",I26*(1-M26),J26*(1-M26)) -> 19.89 | P26: =IF(O26>=K26,(O26*N26),(O26*J26)) -> 0 | Q26: =IF(O26>=K26,N26,J26) -> 30.6
A27: 6 | B27: Techniques Mixtes | C27: Winsor & Newton | D27: 884955097106 | E27: 884955097106 | F27: 0290181 | G27: COFFRET MIXED MEDIA - AQUARELLE | H27: 1 | I27: 30.6 | J27: =I27*(1-$D$12) -> 30.6 | K27: 3 | L27: Substitutive | M27: 0.35 | N27: =IF(L27="SUBSTITUTIVE",I27*(1-M27),J27*(1-M27)) -> 19.89 | P27: =IF(O27>=K27,(O27*N27),(O27*J27)) -> 0 | Q27: =IF(O27>=K27,N27,J27) -> 30.6
A28: 6 | B28: Techniques Mixtes | C28: Winsor & Newton | D28: 884955097113 | E28: 884955097113 | F28: 0290182 | G28: COFFRET MIXED MEDIA - PEINTURES EFFET MÉTAL | H28: 1 | I28: 30.6 | J28: =I28*(1-$D$12) -> 30.6 | K28: 3 | L28: Substitutive | M28: 0.35 | N28: =IF(L28="SUBSTITUTIVE",I28*(1-M28),J28*(1-M28)) -> 19.89 | P28: =IF(O28>=K28,(O28*N28),(O28*J28)) -> 0 | Q28: =IF(O28>=K28,N28,J28) -> 30.6
A29: 7 | B29: Artist's | C29: Winsor & Newton | D29: 884955097847 | E29: 884955097847 | F29: 1290144 | G29: COFFRET ARTISTS' - COFFRET ATELIER | H29: 1 | I29: 92.15 | J29: =I29*(1-$D$12) -> 92.15 | K29: 1 | L29: Substitutive | M29: 0.25 | N29: =IF(L29="SUBSTITUTIVE",I29*(1-M29),J29*(1-M29)) -> 69.1125 | P29: =IF(O29>=K29,(O29*N29),(O29*J29)) -> 0 | Q29: =IF(O29>=K29,N29,J29) -> 92.15
A30: 7 | B30: Winton | C30: Winsor & Newton | D30: 884955097779 | E30: 884955097779 | F30: 1490712 | G30: COFFRET WINTON - LES ESSENTIELLES 8X37ML | H30: 1 | I30: 54.62 | J30: =I30*(1-$D$12) -> 54.62 | K30: 3 | L30: Substitutive | M30: 0.3 | N30: =IF(L30="SUBSTITUTIVE",I30*(1-M30),J30*(1-M30)) -> 38.234 | P30: =IF(O30>=K30,(O30*N30),(O30*J30)) -> 0 | Q30: =IF(O30>=K30,N30,J30) -> 54.62
A31: 7 | B31: Winton | C31: Winsor & Newton | D31: 884955097793 | E31: 884955097793 | F31: 1490713 | G31: COFFRET WINTON - COFFRET LES ESSENTIELLES 10X12ML | H31: 1 | I31: 29.49 | J31: =I31*(1-$D$12) -> 29.49 | K31: 3 | L31: Substitutive | M31: 0.3 | N31: =IF(L31="SUBSTITUTIVE",I31*(1-M31),J31*(1-M31)) -> 20.643 | P31: =IF(O31>=K31,(O31*N31),(O31*J31)) -> 0 | Q31: =IF(O31>=K31,N31,J31) -> 29.49
A32: 8 | B32: Huile Extra-Fine | C32: Lefranc Bourgeois | D32: 3013644051663 | E32: 3013644051663 | F32: 405166 | G32: COFFRET CLASSIQUE | H32: 1 | I32: 112.88 | J32: =I32*(1-$D$12) -> 112.88 | K32: 1 | L32: Substitutive | M32: 0.25 | N32: =IF(L32="SUBSTITUTIVE",I32*(1-M32),J32*(1-M32)) -> 84.66 | P32: =IF(O32>=K32,(O32*N32),(O32*J32)) -> 0 | Q32: =IF(O32>=K32,N32,J32) -> 112.88
A33: 8 | B33: Huile Extra-Fine | C33: Lefranc Bourgeois | D33: 3013644051670 | E33: 3013644051670 | F33: 405167 | G33: COFFRET PRESTIGE | H33: 1 | I33: 438.98 | J33: =I33*(1-$D$12) -> 438.98 | K33: 1 | L33: Substitutive | M33: 0.25 | N33: =IF(L33="SUBSTITUTIVE",I33*(1-M33),J33*(1-M33)) -> 329.235 | P33: =IF(O33>=K33,(O33*N33),(O33*J33)) -> 0 | Q33: =IF(O33>=K33,N33,J33) -> 438.98
A34: 9 | B34: Huile Fine | C34: Lefranc Bourgeois | D34: 3013643018674 | E34: 3013643018674 | F34: 301867 | G34: LE COFFRET DELUXE | H34: 1 | I34: 45.9 | J34: =I34*(1-$D$12) -> 45.9 | K34: 3 | L34: Substitutive | M34: 0.25 | N34: =IF(L34="SUBSTITUTIVE",I34*(1-M34),J34*(1-M34)) -> 34.425 | P34: =IF(O34>=K34,(O34*N34),(O34*J34)) -> 0 | Q34: =IF(O34>=K34,N34,J34) -> 45.9
A35: 9 | B35: Huile Fine | C35: Lefranc Bourgeois | D35: 3013643018636 | E35: 3013643018636 | F35: 301863 | G35: KIT D'INITIATION | H35: 1 | I35: 38.25 | J35: =I35*(1-$D$12) -> 38.25 | K35: 3 | L35: Substitutive | M35: 0.3 | N35: =IF(L35="SUBSTITUTIVE",I35*(1-M35),J35*(1-M35)) -> 26.775 | P35: =IF(O35>=K35,(O35*N35),(O35*J35)) -> 0 | Q35: =IF(O35>=K35,N35,J35) -> 38.25
A36: 10 | B36: Aquarelle Fine | C36: Lefranc Bourgeois | D36: 3013643014508 | E36: 3013643014508 | F36: 301450 | G36: COFFRET BOIS 12 1/2G | H36: 1 | I36: 37.58 | J36: =I36*(1-$D$12) -> 37.58 | K36: 3 | L36: Substitutive | M36: 0.3 | N36: =IF(L36="SUBSTITUTIVE",I36*(1-M36),J36*(1-M36)) -> 26.306 | P36: =IF(O36>=K36,(O36*N36),(O36*J36)) -> 0 | Q36: =IF(O36>=K36,N36,J36) -> 37.58
A37: 10 | B37: Aquarelle Fine | C37: Lefranc Bourgeois | D37: 3013643014454 | E37: 3013643014454 | F37: 301445 | G37: SET 12 1/2 GODETS | H37: 1 | I37: 16.28 | J37: =I37*(1-$D$12) -> 16.28 | K37: 5 | L37: Substitutive | M37: 0.3 | N37: =IF(L37="SUBSTITUTIVE",I37*(1-M37),J37*(1-M37)) -> 11.396 | P37: =IF(O37>=K37,(O37*N37),(O37*J37)) -> 0 | Q37: =IF(O37>=K37,N37,J37) -> 16.28
A38: 11 | B38: Aquarelle Fine | C38: Lefranc Bourgeois | D38: 3013643014461 | E38: 3013643014461 | F38: 301446 | G38: SET 24 1/2 GODETS | H38: 1 | I38: 18.06 | J38: =I38*(1-$D$12) -> 18.06 | K38: 5 | L38: Substitutive | M38: 0.3 | N38: =IF(L38="SUBSTITUTIVE",I38*(1-M38),J38*(1-M38)) -> 12.642 | P38: =IF(O38>=K38,(O38*N38),(O38*J38)) -> 0 | Q38: =IF(O38>=K38,N38,J38) -> 18.06
A39: 11 | B39: Aquarelle Fine | C39: Lefranc Bourgeois | D39: 3013643014478 | E39: 3013643014478 | F39: 301447 | G39: SET 40 1/2 GODETS | H39: 1 | I39: 24.43 | J39: =I39*(1-$D$12) -> 24.43 | K39: 3 | L39: Substitutive | M39: 0.35 | N39: =IF(L39="SUBSTITUTIVE",I39*(1-M39),J39*(1-M39)) -> 15.8795 | P39: =IF(O39>=K39,(O39*N39),(O39*J39)) -> 0 | Q39: =IF(O39>=K39,N39,J39) -> 24.43
A40: 12 | B40: Aquarelle Extra-Fine | C40: Winsor & Newton | D40: 884955080047 | E40: 884955080047 | F40: 0190815 | G40: SET D'ATELIER 12 TUBES | H40: 1 | I40: 96.59 | J40: =I40*(1-$D$12) -> 96.59 | K40: 2 | L40: Substitutive | M40: 0.25 | N40: =IF(L40="SUBSTITUTIVE",I40*(1-M40),J40*(1-M40)) -> 72.4425 | P40: =IF(O40>=K40,(O40*N40),(O40*J40)) -> 0 | Q40: =IF(O40>=K40,N40,J40) -> 96.59
A41: 12 | B41: Aquarelle Extra-Fine | C41: Winsor & Newton | D41: 884955095409 | E41: 884955095409 | F41: 0190824 | G41: W&N PRO WATERCOLOUR REVIVAL COLLECTION 8 1/2G | H41: 1 | I41: 34.95 | J41: =I41*(1-$D$12) -> 34.95 | K41: 3 | L41: Substitutive | M41: 0.3 | N41: =IF(L41="SUBSTITUTIVE",I41*(1-M41),J41*(1-M41)) -> 24.465 | P41: =IF(O41>=K41,(O41*N41),(O41*J41)) -> 0 | Q41: =IF(O41>=K41,N41,J41) -> 34.95
A42: 13 | B42: Aquarelle Extra-Fine | C42: Winsor & Newton | D42: 094376860825 | E42: 094376860825 | F42: 0190685 | G42: W&N PRO WATERCOLOUR 12 HP SET DE POCHE EXTERIEUR | H42: 1 | I42: 74.31 | J42: =I42*(1-$D$12) -> 74.31 | K42: 1 | L42: Substitutive | M42: 0.3 | N42: =IF(L42="SUBSTITUTIVE",I42*(1-M42),J42*(1-M42)) -> 52.017 | P42: =IF(O42>=K42,(O42*N42),(O42*J42)) -> 0 | Q42: =IF(O42>=K42,N42,J42) -> 74.31
A43: 13 | B43: Aquarelle Extra-Fine | C43: Winsor & Newton | D43: 094376935530 | E43: 094376935530 | F43: 0193548 | G43: BOÎTE MÉTAL DE VOYAGE PERSONNALISABLE 12 1/2 GODETS | H43: 1 | I43: 45.86 | J43: =I43*(1-$D$12) -> 45.86 | K43: 3 | L43: Substitutive | M43: 0.4 | N43: =IF(L43="SUBSTITUTIVE",I43*(1-M43),J43*(1-M43)) -> 27.516 | P43: =IF(O43>=K43,(O43*N43),(O43*J43)) -> 0 | Q43: =IF(O43>=K43,N43,J43) -> 45.86
A44: 14 | B44: Aquarelle Extra-Fine | C44: Winsor & Newton | D44: 884955033166 | E44: 884955033166 | F44: 0190100 | G44: BOÎTE MÉTAL DE VOYAGE 18 1/2 GODETS | H44: 1 | I44: 67.53 | J44: =I44*(1-$D$12) -> 67.53 | K44: 3 | L44: Substitutive | M44: 0.3 | N44: =IF(L44="SUBSTITUTIVE",I44*(1-M44),J44*(1-M44)) -> 47.271 | P44: =IF(O44>=K44,(O44*N44),(O44*J44)) -> 0 | Q44: =IF(O44>=K44,N44,J44) -> 67.53
...

Sheet Récap B2B
A1: 3013643022398 | B1: =VLOOKUP(A1,'PROMOS PRODUITS'!D:O,12,FALSE) -> #N/A
A2: 3013643022480 | B2: =VLOOKUP(A2,'PROMOS PRODUITS'!D:O,12,FALSE) -> #N/A
A3: 3013643022473 | B3: =VLOOKUP(A3,'PROMOS PRODUITS'!D:O,12,FALSE) -> #N/A
A4: 3013643022497 | B4: =VLOOKUP(A4,'PROMOS PRODUITS'!D:O,12,FALSE) -> #N/A
A5: 884955099230 | B5: =VLOOKUP(A5,'PROMOS PRODUITS'!D:O,12,FALSE) -> #N/A
A6: 884955099247 | B6: =VLOOKUP(A6,'PROMOS PRODUITS'!D:O,12,FALSE) -> #N/A
A7: 884955102138 | B7: =VLOOKUP(A7,'PROMOS PRODUITS'!D:O,12,FALSE) -> #N/A
A8: 884955097823 | B8: =VLOOKUP(A8,'PROMOS PRODUITS'!D:O,12,FALSE) -> #N/A
A9: 884955097090 | B9: =VLOOKUP(A9,'PROMOS PRODUITS'!D:O,12,FALSE) -> #N/A
A10: 884955097106 | B10: =VLOOKUP(A10,'PROMOS PRODUITS'!D:O,12,FALSE) -> #N/A
A11: 884955097113 | B11: =VLOOKUP(A11,'PROMOS PRODUITS'!D:O,12,FALSE) -> #N/A
A12: 884955097847 | B12: =VLOOKUP(A12,'PROMOS PRODUITS'!D:O,12,FALSE) -> #N/A
... A24: 884955095409 | B24: =VLOOKUP(A24,'PROMOS PRODUITS'!D:O,12,FALSE) -> #N/A
A25: 094376860825
A26: 094376935530
A27: 884955033166
A28: 094376917444
A29: 094376917451
A30: 884955082706
A31: 5012572005838
A32: 094376919844
A33: 884955097816
A34: 094376954401
A35: 884955090688
A36: 884955053683
A37: 3013643014706
A38: 3013643022046
A39: 3013643020554
A40: 3013643020561
A41: 3013643020578
A42: 884955097786
A43: 884955097809
A44: 887452068822
A45: 887452068839
A46: 887452068860
... A126: 766416808189
A127: 766416808202
A128: 766416129512
A129: 766416129529
A130: 766416200624
...
